Workbook

Sheet Metadata
A1: Name | B1: Workforce jobs - seasonally adjusted
A2: ShortName | B2: Workforce jobs
A6: Theme | B6: Employment
A7: Sub-theme | B7: Jobs
A9: Title | B9: Workforce jobs - ONS
A10: Description | B10: Workforce Jobs (WFJ) is a quarterly measure of the number of jobs in the UK and is the preferred measure of the change in jobs by industry. Workplace employment by borough.
A11: Subject | B11: Employment and jobs
A12: Subject.keyword | B12: jobs, employment, workforce, workplace, industry, employees, self-employed, indices
A13: Publisher | B13: ONS
A14: Date.available | B14: Mar 2005 to Jun 2026
A15: Creator | B15: ONS
A16: Date.created | B16: Sep 26
... A21: Rights | B21: Crown Copyright
A22: More info
A23: Download from | B23: http://www.nomisweb.co.uk/
A24: Measure | B24: Numbers
A25: Warnings/Notes | B25: Data is available by industry from NOMIS WEB. Data back to Sep 1981 available for UK.
B26: It is a compound source that draws on a range of employer surveys, household surveys and administrative sources. WFJ is the sum of employee jobs measured primarily by employer surveys, self-employment jobs from the Labour Force Survey, and government-supported trainees and Her Majesty's Forces from administrative sources.
B27: Seasonally adjusted. The figures in this dataset are adjusted to compensate for seasonal variations in employment.
B28: UK totals include overseas based HM Forces personnel that cannot be assigned to a region.
B29: Supporting information is now available to identify a small number of estimates that are deemed unreliable from https://www.nomisweb.co.uk/articles/654.aspx.
B30: Data is rounded to the nearest 1000.
B31: Index figures are based around start of economic downturn (sep 2008)
B32: Previously published figures may differ slightly from those published in December 2024 due to revisions made by Nomis. Find more information here https://www.nomisweb.co.uk/articles/1414.aspx?utm_source
A34: Next release | B34: Dec 26

Sheet Data
B1: Numbers | I1: Index (Jun 2009=100)
A2: Date | B2: Total workforce jobs | D2: Employee jobs | E2: employee jobs | F2: Self-employment jobs | G2: self-employment jobs | I2: Total workforce jobs | K2: Employee jobs | L2: employee jobs | M2: Self-employment jobs | N2: self-employment jobs
B3: UK | C3: London | D3: UK | E3: London | F3: UK | G3: London | I3: UK | J3: London | K3: UK | L3: London | M3: UK | N3: London
A4: 38412 | B4: 31357646 | C4: 4677370 | D4: 27580905 | E4: 4158195 | F4: 3494031 | G4: 508551 | I4: =B4/B$21*100 -> 98.843021 | J4: =C4/C$21*100 -> 95.473696 | K4: =D4/D$21*100 -> 99.473098 | L4: =E4/E$21*100 -> 96.966047 | M4: =F4/F$21*100 -> 93.785063 | N4: =G4/G$21*100 -> 85.524227
A5: 38504 | B5: 31400902 | C5: 4697062 | D5: 27623554 | E5: 4165017 | F5: 3500731 | G5: 521488 | I5: =B5/B$21*100 -> 98.979369 | J5: =C5/C$21*100 -> 95.875646 | K5: =D5/D$21*100 -> 99.626916 | L5: =E5/E$21*100 -> 97.125131 | M5: =F5/F$21*100 -> 93.964902 | N5: =G5/G$21*100 -> 87.699873
A6: 38596 | B6: 31541592 | C6: 4732510 | D6: 27730807 | E6: 4195972 | F6: 3533164 | G6: 526181 | I6: =B6/B$21*100 -> 99.422841 | J6: =C6/C$21*100 -> 96.599205 | K6: =D6/D$21*100 -> 100.01373 | L6: =E6/E$21*100 -> 97.846979 | M6: =F6/F$21*100 -> 94.835452 | N6: =G6/G$21*100 -> 88.489106
A7: 38687 | B7: 31630669 | C7: 4759067 | D7: 27785038 | E7: 4211048 | F7: 3570605 | G7: 537199 | I7: =B7/B$21*100 -> 99.703622 | J7: =C7/C$21*100 -> 97.141282 | K7: =D7/D$21*100 -> 100.20932 | L7: =E7/E$21*100 -> 98.19854 | M7: =F7/F$21*100 -> 95.840425 | N7: =G7/G$21*100 -> 90.342029
A8: 38777 | B8: 31705917 | C8: 4767102 | D8: 27829059 | E8: 4195567 | F8: 3608095 | G8: 561542 | I8: =B8/B$21*100 -> 99.940813 | J8: =C8/C$21*100 -> 97.305291 | K8: =D8/D$21*100 -> 100.36809 | L8: =E8/E$21*100 -> 97.837535 | M8: =F8/F$21*100 -> 96.846713 | N8: =G8/G$21*100 -> 94.435849
A9: 38869 | B9: 31805303 | C9: 4774408 | D9: 27949428 | E9: 4206494 | F9: 3591609 | G9: 554303 | I9: =B9/B$21*100 -> 100.25409 | J9: =C9/C$21*100 -> 97.45442 | K9: =D9/D$21*100 -> 100.80221 | L9: =E9/E$21*100 -> 98.092344 | M9: =F9/F$21*100 -> 96.404204 | N9: =G9/G$21*100 -> 93.218449
A10: 38961 | B10: 31952411 | C10: 4763279 | D10: 28021732 | E10: 4206056 | F10: 3659715 | G10: 542887 | I10: =B10/B$21*100 -> 100.71779 | J10: =C10/C$21*100 -> 97.227257 | K10: =D10/D$21*100 -> 101.06298 | L10: =E10/E$21*100 -> 98.08213 | M10: =F10/F$21*100 -> 98.232272 | N10: =G10/G$21*100 -> 91.298593
A11: 39052 | B11: 32069330 | C11: 4782128 | D11: 28105544 | E11: 4217814 | F11: 3685279 | G11: 550023 | I11: =B11/B$21*100 -> 101.08633 | J11: =C11/C$21*100 -> 97.611999 | K11: =D11/D$21*100 -> 101.36526 | L11: =E11/E$21*100 -> 98.356318 | M11: =F11/F$21*100 -> 98.918448 | N11: =G11/G$21*100 -> 92.498671
A12: 39142 | B12: 32001195 | C12: 4791568 | D12: 28040100 | E12: 4222362 | F12: 3689475 | G12: 552594 | I12: =B12/B$21*100 -> 100.87156 | J12: =C12/C$21*100 -> 97.804687 | K12: =D12/D$21*100 -> 101.12923 | L12: =E12/E$21*100 -> 98.462374 | M12: =F12/F$21*100 -> 99.031075 | N12: =G12/G$21*100 -> 92.931043
A13: 39234 | B13: 32080960 | C13: 4796126 | D13: 28107081 | E13: 4246108 | F13: 3695358 | G13: 533443 | I13: =B13/B$21*100 -> 101.12299 | J13: =C13/C$21*100 -> 97.897724 | K13: =D13/D$21*100 -> 101.3708 | L13: =E13/E$21*100 -> 99.016114 | M13: =F13/F$21*100 -> 99.188984 | N13: =G13/G$21*100 -> 89.710374
A14: 39326 | B14: 32222694 | C14: 4851863 | D14: 28232224 | E14: 4279499 | F14: 3721092 | G14: 555106 | I14: =B14/B$21*100 -> 101.56976 | J14: =C14/C$21*100 -> 99.035418 | K14: =D14/D$21*100 -> 101.82214 | L14: =E14/E$21*100 -> 99.794767 | M14: =F14/F$21*100 -> 99.879723 | N14: =G14/G$21*100 -> 93.353492
A15: 39417 | B15: 32255369 | C15: 4884908 | D15: 28273105 | E15: 4308934 | F15: 3711552 | G15: 560266 | I15: =B15/B$21*100 -> 101.67275 | J15: =C15/C$21*100 -> 99.709927 | K15: =D15/D$21*100 -> 101.96958 | L15: =E15/E$21*100 -> 100.48117 | M15: =F15/F$21*100 -> 99.623655 | N15: =G15/G$21*100 -> 94.221261
... A82: 45536 | B82: 36672167 | C82: 6410807 | D82: 32216354 | E82: 5742960 | F82: 4266433 | G82: 659563 | I82: =B82/B$21*100 -> 115.59502 | J82: =C82/C$21*100 -> 130.85632 | K82: =D82/D$21*100 -> 116.19128 | L82: =E82/E$21*100 -> 133.9216 | M82: =F82/F$21*100 -> 114.5175 | N82: =G82/G$21*100 -> 110.92027
A83: 45627 | B83: 36829472 | C83: 6524444 | D83: 32347988 | E83: 5808566 | F83: 4278895 | G83: 695976 | I83: 116.0781 | J83: =C83/C$21*100 -> 133.17586 | K83: =D83/D$21*100 -> 116.66603 | L83: =E83/E$21*100 -> 135.45148 | M83: =F83/F$21*100 -> 114.852 | N83: =G83/G$21*100 -> 117.04393
A84: 45717 | B84: 36931114 | C84: 6491186 | D84: 32388357 | E84: 5807772 | F84: 4341536 | G84: 665605 | I84: 116.39845 | J84: =C84/C$21*100 -> 132.49701 | K84: =D84/D$21*100 -> 116.81162 | L84: =E84/E$21*100 -> 135.43297 | M84: =F84/F$21*100 -> 116.53338 | N84: =G84/G$21*100 -> 111.93637
A85: 45809 | B85: 36673463 | C85: 6417266 | D85: 32306402 | E85: 5784759 | F85: 4185543 | G85: 626074 | I85: 116.39845 | J85: =C85/C$21*100 -> 130.98816 | K85: =D85/D$21*100 -> 116.51604 | L85: =E85/E$21*100 -> 134.89632 | M85: =F85/F$21*100 -> 112.34629 | N85: =G85/G$21*100 -> 105.28835
A86: 45901 | B86: 36529936 | C86: 6398277 | D86: 32263118 | E86: 5806891 | F86: 4064804 | G86: 582549 | I86: 116.39845 | J86: =C86/C$21*100 -> 130.60056 | K86: =D86/D$21*100 -> 116.35993 | L86: =E86/E$21*100 -> 135.41242 | M86: =F86/F$21*100 -> 109.10547 | N86: =G86/G$21*100 -> 97.968646
A87: 45992 | B87: 36577958 | C87: 6422816 | D87: 32337292 | E87: 5796014 | F87: 4037605 | G87: 619103 | I87: 116.39845 | J87: =C87/C$21*100 -> 131.10145 | K87: =D87/D$21*100 -> 116.62745 | L87: =E87/E$21*100 -> 135.15878 | M87: =F87/F$21*100 -> 108.37541 | N87: =G87/G$21*100 -> 104.11602
A88: 46082 | B88: 36781564 | C88: 6450336 | D88: 32362228 | E88: 5800738 | F88: 4219088 | G88: 641818 | I88: 116.39845 | J88: =C88/C$21*100 -> 131.66318 | K88: =D88/D$21*100 -> 116.71738 | L88: =E88/E$21*100 -> 135.26894 | M88: =F88/F$21*100 -> 113.24669 | N88: =G88/G$21*100 -> 107.93605
A89: 46174 | B89: 36733961 | C89: 6436440 | D89: 32352188 | E89: 5790999 | F89: 4175688 | G89: 637956 | I89: 116.39845 | J89: =C89/C$21*100 -> 131.37954 | K89: =D89/D$21*100 -> 116.68117 | L89: =E89/E$21*100 -> 135.04183 | M89: =F89/F$21*100 -> 112.08177 | N89: =G89/G$21*100 -> 107.28657

Sheet Charts
B1: Total workforce jobs | D1: Employee jobs | F1: Self-employment jobs
B2: UK | C2: London | D2: UK | E2: London | F2: UK | G2: London
A3: Change since last quarter | B3: =Data!B89-Data!B88 -> -47603 | C3: =Data!C89-Data!C88 -> -13896 | D3: =Data!D89-Data!D88 -> -10040 | E3: =Data!E89-Data!E88 -> -9739 | F3: =Data!F89-Data!F88 -> -43400 | G3: =Data!G89-Data!G88 -> -3862
A4: % Change since last quarter | B4: =B3/Data!B85 -> -0.001298023 | C4: =C3/Data!C85 -> -0.0021654081 | D4: =D3/Data!D85 -> -0.00031077432 | E4: =E3/Data!E85 -> -0.0016835619 | F4: =F3/Data!F85 -> -0.010369025 | G4: =G3/Data!G85 -> -0.0061685999
A5: Change since last year | B5: =Data!B89-Data!B85 -> 60498 | C5: =Data!C89-Data!C85 -> 19174 | D5: =Data!D89-Data!D85 -> 45786 | E5: =Data!E89-Data!E85 -> 6240 | F5: =Data!F89-Data!F85 -> -9855 | G5: =Data!G89-Data!G85 -> 11882
A6: % Change since last year | B6: =B5/Data!B84 -> 0.0016381309 | C6: =C5/Data!C84 -> 0.0029538516 | D6: =D5/Data!D84 -> 0.0014136561 | E6: =E5/Data!E84 -> 0.0010744223 | F6: =F5/Data!F84 -> -0.002269934 | G6: =G5/Data!G84 -> 0.017851428

Sheet Regions since 1996
A1: Date | B1: Quarter | C1: London | D1: United Kingdom | E1: England | F1: Wales | G1: Scotland | H1: Northern Ireland | I1: North East | J1: North West | K1: Yorkshire and The Humber | L1: East Midlands | M1: West Midlands | N1: East | O1: South East | P1: South West
A2: March 1996 | B2: 1996 Q1 | C2: 3974591 | D2: 28102415 | E2: 23692974 | F2: 1207301 | G2: 2465269 | H2: 704434 | I2: 1078606 | J2: 3165842 | K2: 2343842 | L2: 1949070 | M2: 2559125 | N2: 2445683 | O2: 3974591 | P2: 3837008
A3: June 1996 | B3: 1996 Q2 | C3: 3988859 | D3: 28245579 | E3: 23817293 | F3: 1220868 | G3: 2472801 | H3: 702657 | I3: 1085759 | J3: 3167422 | K3: 2368668 | L3: 1941209 | M3: 2581644 | N3: 2445711 | O3: 3988859 | P3: 3882640
A4: September 1996 | B4: 1996 Q3 | C4: 4024292 | D4: 28396892 | E4: 23941734 | F4: 1223414 | G4: 2483537 | H4: 716674 | I4: 1083608 | J4: 3151301 | K4: 2344878 | L4: 1980076 | M4: 2587377 | N4: 2446289 | O4: 4024292 | P4: 3933698
A5: December 1996 | B5: 1996 Q4 | C5: 4054840 | D5: 28495315 | E5: 24048700 | F5: 1217095 | G5: 2472670 | H5: 725695 | I5: 1089482 | J5: 3177175 | K5: 2352031 | L5: 1974966 | M5: 2579890 | N5: 2477827 | O5: 4054840 | P5: 3962846
A6: March 1997 | B6: 1997 Q1 | C6: 4066027 | D6: 28503222 | E6: 24063799 | F6: 1221713 | G6: 2464912 | H6: 721833 | I6: 1076004 | J6: 3175241 | K6: 2359827 | L6: 1978075 | M6: 2576323 | N6: 2471667 | O6: 4066027 | P6: 3953443
A7: June 1997 | B7: 1997 Q2 | C7: 4104925 | D7: 28760526 | E7: 24305049 | F7: 1224502 | G7: 2473275 | H7: 727191 | I7: 1098281 | J7: 3208223 | K7: 2369137 | L7: 2013866 | M7: 2588850 | N7: 2510696 | O7: 4104925 | P7: 3982245
A8: September 1997 | B8: 1997 Q3 | C8: 4151644 | D8: 28900037 | E8: 24427722 | F8: 1227260 | G8: 2477804 | H8: 736309 | I8: 1093099 | J8: 3180095 | K8: 2390941 | L8: 2019382 | M8: 2582022 | N8: 2544732 | O8: 4151644 | P8: 4011713
A9: December 1997 | B9: 1997 Q4 | C9: 4247254 | D9: 29020329 | E9: 24546308 | F9: 1225289 | G9: 2484714 | H9: 733565 | I9: 1117435 | J9: 3162641 | K9: 2368380 | L9: 2019141 | M9: 2592474 | N9: 2566170 | O9: 4247254 | P9: 4018528
A10: March 1998 | B10: 1998 Q1 | C10: 4285401 | D10: 29041492 | E10: 24557043 | F10: 1220504 | G10: 2495496 | H10: 738021 | I10: 1120414 | J10: 3144763 | K10: 2371825 | L10: 2020081 | M10: 2608582 | N10: 2552227 | O10: 4285401 | P10: 4015989
A11: June 1998 | B11: 1998 Q2 | C11: 4287138 | D11: 28949180 | E11: 24491891 | F11: 1213573 | G11: 2477742 | H11: 735550 | I11: 1116821 | J11: 3125897 | K11: 2361665 | L11: 2006381 | M11: 2612209 | N11: 2563892 | O11: 4287138 | P11: 4003186
A12: September 1998 | B12: 1998 Q3 | C12: 4320494 | D12: 29051715 | E12: 24593234 | F12: 1214816 | G12: 2479819 | H12: 733482 | I12: 1115381 | J12: 3141563 | K12: 2359429 | L12: 2006046 | M12: 2602787 | N12: 2580397 | O12: 4320494 | P12: 4050510
A13: December 1998 | B13: 1998 Q4 | C13: 4402526 | D13: 29212223 | E13: 24758102 | F13: 1215150 | G13: 2466985 | H13: 741617 | I13: 1080962 | J13: 3194159 | K13: 2344764 | L13: 2052308 | M13: 2600721 | N13: 2602072 | O13: 4402526 | P13: 4047683
... A107: June 2022 | B107: 2022 Q2 | C107: 6272124 | D107: 35920348 | E107: 30717937 | F107: 1488729 | G107: 2803609 | H107: 903180 | I107: 1194946 | J107: 3837920 | K107: 2805370 | L107: 2448250 | M107: 2976175 | N107: 3180549 | O107: 6272124 | P107: 4908748
A108: 44805 | B108: 2022 Q3 | C108: 6309856 | D108: 35965802 | E108: 30809400 | F108: 1466271 | G108: 2773417 | H108: 909680 | I108: 1186686 | J108: 3857663 | K108: 2810684 | L108: 2473506 | M108: 2986683 | N108: 3218453 | O108: 6309856 | P108: 4908162
A109: 44896 | B109: 2022 Q4 | C109: 6362507 | D109: 36206044 | E109: 31054387 | F109: 1479901 | G109: 2749220 | H109: 915648 | I109: 1213155 | J109: 3880570 | K109: 2809064 | L109: 2474229 | M109: 3058747 | N109: 3257617 | O109: 6362507 | P109: 4932973
A110: 44986 | B110: 2023 Q1 | C110: 6473954 | D110: 36531805 | E110: 31384292 | F110: 1473912 | G110: 2748931 | H110: 917817 | I110: 1237527 | J110: 3907506 | K110: 2811331 | L110: 2516048 | M110: 3079315 | N110: 3277208 | O110: 6473954 | P110: 4979255
A111: 45078 | B111: 2023 Q2 | C111: 6384703 | D111: 36301260 | E111: 31153388 | F111: 1437438 | G111: 2783925 | H111: 919655 | I111: 1254566 | J111: 3881252 | K111: 2804538 | L111: 2460488 | M111: 3033071 | N111: 3248022 | O111: 6384703 | P111: 5013641
A112: 45170 | B112: 2023 Q3 | C112: 6293037 | D112: 36372275 | E112: 31130786 | F112: 1486028 | G112: 2806466 | H112: 941971 | I112: 1250900 | J112: 3933841 | K112: 2848098 | L112: 2439357 | M112: 3017652 | N112: 3233228 | O112: 6293037 | P112: 5038114
A113: 45261 | B113: 2023 Q4 | C113: 6315112 | D113: 36470115 | E113: 31200658 | F113: 1508026 | G113: 2815118 | H113: 939250 | I113: 1237373 | J113: 3954005 | K113: 2814105 | L113: 2446870 | M113: 2995767 | N113: 3250802 | O113: 6315112 | P113: 5078533
A114: 45352 | B114: 2024 Q1 | C114: 6419942 | D114: 36710702 | E114: 31341571 | F114: 1531117 | G114: 2882983 | H114: 948201 | I114: 1232590 | J114: 3925996 | K114: 2843597 | L114: 2445052 | M114: 3009001 | N114: 3262087 | O114: 6419942 | P114: 5072080
A115: 45444 | B115: 2024 Q2 | C115: 6452651 | D115: 36634974 | E115: 31313786 | F115: 1488869 | G115: 2880454 | H115: 944935 | I115: 1221479 | J115: 3902234 | K115: 2830515 | L115: 2420726 | M115: 2984573 | N115: 3295929 | O115: 6452651 | P115: 5046739
A116: 45537 | B116: 2024 Q3 | C116: 6410807 | D116: 36672167 | E116: 31396014 | F116: 1479290 | G116: 2842797 | H116: 947173 | I116: 1233221 | J116: 3966819 | K116: 2832878 | L116: 2483830 | M116: 3007742 | N116: 3318456 | O116: 6410807 | P116: 4987810
A117: 45627 | B117: 2024 Q4 | C117: 6524444 | D117: 36829472 | E117: 31584868 | F117: 1460360 | G117: 2825182 | H117: 952221 | I117: 1261047 | J117: 3969240 | K117: 2845206 | L117: 2489492 | M117: 2992223 | N117: 3316944 | O117: 6524444 | P117: 5015040
A118: 45717 | B118: 2025 Q1 | C118: 6491186 | D118: 36931114 | E118: 31663850 | F118: 1461590 | G118: 2838923 | H118: 959819 | I118: 1257301 | J118: 3948642 | K118: 2867356 | L118: 2521916 | M118: 3002452 | N118: 3345747 | O118: 5079380 | P118: 3149870
A119: 45809 | B119: 2025 Q2 | C119: 6417266 | D119: 36673463 | E119: 31421539 | F119: 1470828 | G119: 2818056 | H119: 956095 | I119: 1251375 | J119: 3933009 | K119: 2854688 | L119: 2496068 | M119: 3001223 | N119: 3284751 | O119: 5043391 | P119: 3139768
... A123: 46174 | B123: 2026 Q2 | C123: 6436440 | D123: 36733961 | E123: 31416772 | F123: 1491924 | G123: 2847389 | H123: 970844 | I123: 1241199 | J123: 3964865 | K123: 2878125 | L123: 2475681 | M123: 3003739 | N123: 3304900 | O123: 5018503 | P123: 3093320

Sheet Indices
A1: Workforce jobs, seasonally adjusted (000's)
B3: 2009 Q2 (numbers) | C3: 2009 Q2 | D3: 2009 Q3 | E3: 2009 Q4 | F3: 2010 Q1 | G3: 2010 Q2 | H3: 2010 Q3 | I3: 2010 Q4 | J3: 2011 Q1 | K3: 2011 Q2 | L3: 2011 Q3 | M3: 2011 Q4 | N3: 2012 Q1 | O3: 2012 Q2 | P3: 2012 Q3 | Q3: 2012 Q4 | R3: 2013 Q1 | S3: 2013 Q2 | T3: 2013 Q3 | U3: 2013 Q3 | V3: 2014 Q1 | W3: 2014 Q2 | X3: 2014 Q3 | Y3: 2014 Q4 | Z3: 2015 Q1 | AA3: 2015 Q2 | AB3: 2015 Q3 | AC3: 2015 Q4 | AD3: 2016 Q1 | AE3: 2016 Q2 | AF3: 2016 Q3 | AG3: 2016 Q4 | AH3: 2017 Q1 | AI3: 2017 Q2 | AJ3: 2017 Q3 | AK3: 2017 Q4 | AL3: 2018 Q1 | AM3: 2018 Q2 | AN3: 2018 Q3 | AO3: 2018 Q4 | AP3: 2019 Q1 | AQ3: 2019 Q2 | AR3: 2019 Q3 | AS3: 2019 Q4 | AT3: 2020 Q1 | AU3: 2020 Q2 | AV3: 2020 Q3 | AW3: 2020 Q4 | AX3: 2021 Q1 | AY3: 2021 Q2 | AZ3: 2021 Q3 | BA3: 2021 Q4 | BB3: 2022 Q1 | BC3: 2022 Q2 | BD3: 2022 Q3 | BE3: 2022 Q4 | BF3: 2023 Q1 | BG3: 2023 Q2 | BH3: 2023 Q3 | BI3: 2023 Q4 | BJ3: 2024 Q1 | BK3: 2024 Q2 | BL3: 2024 Q3 | BM3: 2024 Q4 | BN3: 2025 Q1 | BO3: 2025 Q2 | BP3: 2025 Q3 | BQ3: 2025 Q4 | BR3: 2026 Q1 | BS3: 2026 Q2
A4: London | B4: 4899119 | C4: 100 | D4: 98.41 | E4: 97.947794 | F4: 98.415389 | G4: 99.015823 | H4: 98.369176 | I4: 99.438756 | J4: 99.241619 | K4: 99.551817 | L4: 101.30611 | M4: 101.82076 | N4: 104.46878 | O4: 104.61375 | P4: 104.92282 | Q4: 105.1815 | R4: 106.87124 | S4: 106.56624 | T4: 107.78505 | U4: 109.93736 | V4: 111.01655 | W4: 112.69922 | X4: 112.76846 | Y4: 113.2483 | Z4: 113.76676 | AA4: 114.20741 | AB4: 114.95624 | AC4: 115.65147 | AD4: 116.34488 | AE4: 117.59665 | AF4: 117.7921 | AG4: 118.14924 | AH4: 118.65974 | AI4: 119.91962 | AJ4: 120.2415 | AK4: 120.96271 | AL4: 120.99408 | AM4: 120.75904 | AN4: 120.79157 | AO4: 121.40487 | AP4: 122.46943 | AQ4: 121.71543 | AR4: 123.12459 | AS4: 123.68605 | AT4: 123.24934 | AU4: 120.3201 | AV4: 118.11552 | AW4: 118.06866 | AX4: 119.41633 | AY4: 121.64906 | AZ4: 122.70482 | BA4: 123.72539 | BB4: 125.86975 | BC4: 128.02555 | BD4: 128.79573 | BE4: 129.87043 | BF4: 132.14527 | BG4: 130.32349 | BH4: 128.45242 | BI4: 128.90301 | BJ4: 131.04279 | BK4: 131.71044 | BL4: 130.85632 | BM4: 133.17586 | BN4: 132.49701 | BO4: 130.98816 | BP4: 130.60056 | BQ4: 131.10145 | BR4: 131.66318 | BS4: 131.37954
A5: United Kingdom | B5: 31724694 | C5: 100 | D5: 99.635911 | E5: 99.226265 | F5: 99.221597 | G5: 99.471922 | H5: 99.330919 | I5: 99.50919 | J5: 99.705293 | K5: 99.468061 | L5: 100.19875 | M5: 100.25079 | N5: 101.30577 | O5: 101.16812 | P5: 101.0017 | Q5: 100.8273 | R5: 101.39774 | S5: 101.6249 | T5: 102.34564 | U5: 103.49358 | V5: 104.4341 | W5: 105.43623 | X5: 105.83216 | Y5: 106.17946 | Z5: 106.56554 | AA5: 106.84417 | AB5: 107.40915 | AC5: 107.67148 | AD5: 108.34458 | AE5: 108.93818 | AF5: 109.01972 | AG5: 109.29646 | AH5: 109.85051 | AI5: 109.85555 | AJ5: 110.16826 | AK5: 109.95488 | AL5: 110.14973 | AM5: 110.21691 | AN5: 110.54406 | AO5: 111.1278 | AP5: 111.70653 | AQ5: 112.02357 | AR5: 112.23994 | AS5: 112.44932 | AT5: 112.23423 | AU5: 110.74216 | AV5: 109.02577 | AW5: 108.86091 | AX5: 109.4771 | AY5: 110.54319 | AZ5: 111.18987 | BA5: 111.41087 | BB5: 112.55342 | BC5: 113.2252 | BD5: 113.36848 | BE5: 114.12575 | BF5: 115.15258 | BG5: 114.42588 | BH5: 114.64973 | BI5: 114.95813 | BJ5: 115.71649 | BK5: 115.47779 | BL5: 115.59502 | BM5: 116.09087 | BN5: 116.41125 | BO5: 115.59911 | BP5: 115.14669 | BQ5: 115.29806 | BR5: 115.93985 | BS5: 115.7898
A6: England | B6: 26805737 | C6: 100 | D6: 99.591774 | E6: 99.248418 | F6: 99.263285 | G6: 99.660188 | H6: 99.471266 | I6: 99.815558 | J6: 99.885659 | K6: 99.639835 | L6: 100.3997 | M6: 100.78086 | N6: 101.86279 | O6: 101.67663 | P6: 101.46306 | Q6: 101.34899 | R6: 102.12083 | S6: 102.21177 | T6: 102.84825 | U6: 104.0674 | V6: 105.00957 | W6: 106.14045 | X6: 106.4593 | Y6: 106.97331 | Z6: 107.35202 | AA6: 107.67594 | AB6: 108.29751 | AC6: 108.57047 | AD6: 109.27747 | AE6: 109.91944 | AF6: 110.20118 | AG6: 110.44767 | AH6: 110.98121 | AI6: 110.92815 | AJ6: 111.35099 | AK6: 111.16668 | AL6: 111.36767 | AM6: 111.32387 | AN6: 111.79736 | AO6: 112.52162 | AP6: 113.14789 | AQ6: 113.31136 | AR6: 113.52498 | AS6: 113.75125 | AT6: 113.52459 | AU6: 111.97163 | AV6: 110.16813 | AW6: 110.1065 | AX6: 110.84269 | AY6: 111.89843 | AZ6: 112.50257 | BA6: 112.63521 | BB6: 113.77169 | BC6: 114.59464 | BD6: 114.93584 | BE6: 115.84978 | BF6: 117.0805 | BG6: 116.21911 | BH6: 116.13479 | BI6: 116.39545 | BJ6: 116.92113 | BK6: 116.81748 | BL6: 117.12423 | BM6: 117.82876 | BN6: 118.12341 | BO6: 117.21946 | BP6: 116.76322 | BQ6: 116.84137 | BR6: 117.61902 | BS6: 117.20167
A7: Wales | B7: 1389635 | C7: 100 | D7: 99.549666 | E7: 99.387825 | F7: 100.39363 | G7: 98.417354 | H7: 98.904604 | I7: 97.379888 | J7: 98.516445 | K7: 98.833651 | L7: 99.348894 | M7: 98.006023 | N7: 98.176644 | O7: 98.201398 | P7: 100.29641 | Q7: 99.841325 | R7: 98.23522 | S7: 99.02003 | T7: 100.11535 | U7: 101.27415 | V7: 104.4126 | W7: 103.02209 | X7: 103.02389 | Y7: 103.1509 | Z7: 104.19858 | AA7: 104.11079 | AB7: 104.47621 | AC7: 105.99568 | AD7: 106.24776 | AE7: 106.1935 | AF7: 104.61236 | AG7: 104.61085 | AH7: 103.85382 | AI7: 105.24138 | AJ7: 104.64604 | AK7: 105.2621 | AL7: 106.06282 | AM7: 107.00371 | AN7: 106.37937 | AO7: 105.98078 | AP7: 105.82901 | AQ7: 106.37678 | AR7: 106.38563 | AS7: 104.54184 | AT7: 104.94713 | AU7: 103.6475 | AV7: 103.89829 | AW7: 103.80625 | AX7: 104.05653 | AY7: 106.87396 | AZ7: 104.96389 | BA7: 105.06104 | BB7: 105.96171 | BC7: 107.13094 | BD7: 105.51483 | BE7: 106.49566 | BF7: 106.06469 | BG7: 103.43997 | BH7: 106.93657 | BI7: 108.51958 | BJ7: 110.18123 | BK7: 107.14101 | BL7: 106.45169 | BM7: 105.08947 | BN7: 105.17798 | BO7: 105.84276 | BP7: 103.31267 | BQ7: 104.99613 | BR7: 105.1941 | BS7: 107.36085
A8: Scotland | B8: 2658829 | C8: 100 | D8: 100.22901 | E8: 98.500054 | F8: 97.618237 | G8: 97.877374 | H8: 97.732235 | I8: 97.834235 | J8: 99.046535 | K8: 98.735797 | L8: 99.411545 | M8: 97.495176 | N8: 99.525693 | O8: 99.366977 | P8: 98.585656 | Q8: 97.786168 | R8: 97.76048 | S8: 98.763741 | T8: 99.987965 | U8: 100.79212 | V8: 100.48728 | W8: 102.3305 | X8: 103.22315 | Y8: 102.52656 | Z8: 102.28958 | AA8: 102.51566 | AB8: 102.57444 | AC8: 102.42201 | AD8: 102.73572 | AE8: 103.06477 | AF8: 102.16404 | AG8: 102.65026 | AH8: 104.30069 | AI8: 103.98604 | AJ8: 103.93613 | AK8: 102.4724 | AL8: 102.35762 | AM8: 102.97593 | AN8: 102.82369 | AO8: 102.47481 | AP8: 102.77419 | AQ8: 104.06675 | AR8: 104.27831 | AS8: 105.47309 | AT8: 105.08822 | AU8: 103.73559 | AV8: 102.14045 | AW8: 101.31588 | AX8: 101.43356 | AY8: 102.23418 | AZ8: 104.31081 | BA8: 105.28342 | BB8: 106.44329 | BC8: 105.44525 | BD8: 104.30972 | BE8: 103.39965 | BF8: 103.38879 | BG8: 104.70493 | BH8: 105.55271 | BI8: 105.87811 | BJ8: 108.43055 | BK8: 108.33544 | BL8: 106.91914 | BM8: 106.25663 | BN8: 106.77343 | BO8: 105.98861 | BP8: 106.74184 | BQ8: 106.71299 | BR8: 105.9023 | BS8: 107.09184
A9: Northern Ireland | B9: 843488 | C9: 100 | D9: 99.262704 | E9: 100.4926 | F9: 100.91857 | G9: 100.19668 | H9: 100.56385 | I9: 98.53513 | J9: 98.137022 | K9: 97.493148 | L9: 97.909632 | M9: 96.068705 | N9: 94.776215 | O9: 96.046298 | P9: 95.738173 | Q9: 96.127509 | R9: 95.816775 | S9: 97.018452 | T9: 98.300865 | U9: 98.379349 | V9: 99.689148 | W9: 98.000446 | X9: 100.02988 | Y9: 98.822983 | Z9: 100.42834 | AA9: 100.17084 | AB9: 101.2191 | AC9: 100.46699 | AD9: 101.94988 | AE9: 102.94503 | AF9: 102.59008 | AG9: 103.6636 | AH9: 103.60373 | AI9: 104.18619 | AJ9: 103.60823 | AK9: 105.05484 | AL9: 105.09646 | AM9: 105.5376 | AN9: 104.32324 | AO9: 105.01548 | AP9: 106.24561 | AQ9: 107.95376 | AR9: 108.83 | AS9: 108.8485 | AT9: 108.50836 | AU9: 108.15732 | AV9: 105.49492 | AW9: 104.02697 | AX9: 103.03407 | AY9: 102.42351 | AZ9: 104.162 | BA9: 105.01323 | BB9: 106.73252 | BC9: 107.0768 | BD9: 107.84741 | BE9: 108.55495 | BF9: 108.8121 | BG9: 109.03 | BH9: 111.67568 | BI9: 111.3531 | BJ9: 112.41428 | BK9: 112.02708 | BL9: 112.29241 | BM9: 112.89088 | BN9: 113.79166 | BO9: 113.35016 | BP9: 112.65969 | BQ9: 113.15502 | BR9: 114.80151 | BS9: 115.09873
A10: North East | B10: 1189369 | C10: 100 | D10: 99.589614 | E10: 99.474764 | F10: 99.335614 | G10: 99.290128 | H10: 97.150338 | I10: 95.695196 | J10: 96.407002 | K10: 96.78939 | L10: 97.24131 | M10: 97.463529 | N10: 99.011829 | O10: 95.565464 | P10: 95.394701 | Q10: 95.993169 | R10: 96.53312 | S10: 96.79536 | T10: 97.571654 | U10: 97.332367 | V10: 97.477654 | W10: 98.860068 | X10: 97.677256 | Y10: 97.166733 | Z10: 100.22525 | AA10: 102.06168 | AB10: 99.737003 | AC10: 98.263449 | AD10: 98.882349 | AE10: 97.867777 | AF10: 98.023238 | AG10: 97.808502 | AH10: 98.0641 | AI10: 99.138451 | AJ10: 102.04705 | AK10: 101.21619 | AL10: 102.17266 | AM10: 100.79109 | AN10: 99.964267 | AO10: 99.993442 | AP10: 97.738044 | AQ10: 100.66724 | AR10: 101.48028 | AS10: 100.14966 | AT10: 101.01878 | AU10: 99.606346 | AV10: 98.361064 | AW10: 98.956758 | AX10: 99.966453 | AY10: 102.33132 | AZ10: 102.23589 | BA10: 100.5555 | BB10: 100.44284 | BC10: 100.4689 | BD10: 99.774418 | BE10: 101.99988 | BF10: 104.04904 | BG10: 105.48165 | BH10: 105.17342 | BI10: 104.03609 | BJ10: 103.63394 | BK10: 102.69975 | BL10: 103.687 | BM10: 106.02656 | BN10: 105.7116 | BO10: 105.21335 | BP10: 106.16747 | BQ10: 105.12843 | BR10: 104.11302 | BS10: 104.35777
A11: North West | B11: 3433100 | C11: 100 | D11: 99.391687 | E11: 99.422184 | F11: 99.0822 | G11: 99.365209 | H11: 99.440156 | I11: 98.90076 | J11: 99.618275 | K11: 98.456002 | L11: 98.643529 | M11: 99.55396 | N11: 97.628528 | O11: 99.031604 | P11: 99.664443 | Q11: 100.17244 | R11: 99.681833 | S11: 99.728729 | T11: 100.34686 | U11: 101.8672 | V11: 102.62696 | W11: 103.91876 | X11: 104.00789 | Y11: 104.41228 | Z11: 104.05919 | AA11: 103.89007 | AB11: 104.7333 | AC11: 104.67904 | AD11: 105.73919 | AE11: 105.66602 | AF11: 106.33966 | AG11: 106.53605 | AH11: 107.87265 | AI11: 107.20413 | AJ11: 107.88544 | AK11: 107.72873 | AL11: 107.70007 | AM11: 108.04585 | AN11: 109.60546 | AO11: 110.1106 | AP11: 111.83397 | AQ11: 111.82264 | AR11: 112.45702 | AS11: 111.15616 | AT11: 111.59657 | AU11: 110.01285 | AV11: 109.41729 | AW11: 109.04401 | AX11: 108.42524 | AY11: 110.68769 | AZ11: 111.14957 | BA11: 110.69908 | BB11: 111.08829 | BC11: 111.79168 | BD11: 112.36675 | BE11: 113.03399 | BF11: 113.81859 | BG11: 113.05386 | BH11: 114.58568 | BI11: 115.17302 | BJ11: 114.35717 | BK11: 113.66503 | BL11: 115.54627 | BM11: 115.61679 | BN11: 115.01681 | BO11: 114.56145 | BP11: 115.976 | BQ11: 116.14701 | BR11: 115.9035 | BS11: 115.48935
A12: Yorkshire and The Humber | B12: 2549059 | C12: 100 | D12: 100.47504 | E12: 99.334656 | F12: 99.278165 | G12: 99.683413 | H12: 98.948632 | I12: 99.390952 | J12: 99.542537 | K12: 99.251175 | L12: 99.257295 | M12: 99.691102 | N12: 99.330537 | O12: 99.034703 | P12: 99.812205 | Q12: 99.97352 | R12: 99.68965 | S12: 99.509466 | T12: 99.350819 | U12: 100.17654 | V12: 101.61236 | W12: 102.01816 | X12: 102.87337 | Y12: 103.8983 | Z12: 103.94216 | AA12: 105.05406 | AB12: 105.39219 | AC12: 104.83351 | AD12: 106.88062 | AE12: 107.50206 | AF12: 106.46866 | AG12: 106.74057 | AH12: 107.84431 | AI12: 107.60587 | AJ12: 106.4802 | AK12: 106.00473 | AL12: 107.3859 | AM12: 108.20456 | AN12: 107.36852 | AO12: 108.35014 | AP12: 107.68739 | AQ12: 107.41356 | AR12: 107.6877 | AS12: 108.55068 | AT12: 107.63223 | AU12: 106.92181 | AV12: 105.23032 | AW12: 104.55972 | AX12: 106.68466 | AY12: 107.4708 | AZ12: 107.86526 | BA12: 106.35654 | BB12: 108.99795 | BC12: 110.05512 | BD12: 110.26359 | BE12: 110.20004 | BF12: 110.28897 | BG12: 110.02248 | BH12: 111.73135 | BI12: 110.3978 | BJ12: 111.55477 | BK12: 111.04156 | BL12: 111.13427 | BM12: 111.6179 | BN12: 112.48684 | BO12: 111.98988 | BP12: 110.91838 | BQ12: 111.6922 | BR12: 112.22306 | BS12: 112.90931
A13: East Midlands | B13: 2144109 | C13: 100 | D13: 101.41933 | E13: 100.40199 | F13: 100.04128 | G13: 100.67753 | H13: 100.88969 | I13: 102.90811 | J13: 102.16258 | K13: 102.57007 | L13: 102.52674 | M13: 103.03063 | N13: 105.16466 | O13: 103.32786 | P13: 101.73979 | Q13: 101.87985 | R13: 102.91832 | S13: 102.18944 | T13: 103.0442 | U13: 103.17936 | V13: 103.92653 | W13: 105.09069 | X13: 106.28168 | Y13: 106.50671 | Z13: 106.29059 | AA13: 106.86434 | AB13: 107.42159 | AC13: 108.31856 | AD13: 108.77166 | AE13: 109.57297 | AF13: 109.68948 | AG13: 110.0729 | AH13: 110.9653 | AI13: 110.54559 | AJ13: 110.41356 | AK13: 111.29257 | AL13: 110.43128 | AM13: 109.59774 | AN13: 109.29575 | AO13: 110.26459 | AP13: 112.05223 | AQ13: 113.03343 | AR13: 112.5086 | AS13: 112.46695 | AT13: 112.73979 | AU13: 111.4136 | AV13: 109.34388 | AW13: 109.75944 | AX13: 109.6399 | AY13: 111.00173 | AZ13: 111.56159 | BA13: 112.73214 | BB13: 113.98926 | BC13: 114.18496 | BD13: 115.36289 | BE13: 115.39661 | BF13: 117.34702 | BG13: 114.75573 | BH13: 113.7702 | BI13: 114.1206 | BJ13: 114.03581 | BK13: 112.90126 | BL13: 115.84439 | BM13: 116.10846 | BN13: 117.6207 | BO13: 116.41516 | BP13: 115.79108 | BQ13: 116.03594 | BR13: 117.5784 | BS13: 115.46433
A14: West Midlands | B14: 2636170 | C14: 100 | D14: 99.431296 | E14: 98.852161 | F14: 99.091751 | G14: 98.754595 | H14: 99.737536 | I14: 98.529154 | J14: 98.690031 | K14: 98.68859 | L14: 99.993855 | M14: 99.97796 | N14: 101.52968 | O14: 101.13521 | P14: 101.63787 | Q14: 101.82716 | R14: 103.03884 | S14: 101.63931 | T14: 102.51786 | U14: 103.36242 | V14: 103.26933 | W14: 105.63257 | X14: 105.12755 | Y14: 105.1329 | Z14: 107.25333 | AA14: 107.62371 | AB14: 107.06461 | AC14: 107.83447 | AD14: 108.30216 | AE14: 108.59448 | AF14: 109.04505 | AG14: 109.32872 | AH14: 110.61654 | AI14: 110.70238 | AJ14: 111.5532 | AK14: 110.47413 | AL14: 112.14212 | AM14: 112.5949 | AN14: 111.64083 | AO14: 112.17156 | AP14: 112.42708 | AQ14: 113.58505 | AR14: 113.48874 | AS14: 112.95387 | AT14: 112.15472 | AU14: 112.40026 | AV14: 109.33494 | AW14: 109.9549 | AX14: 111.19044 | AY14: 111.89324 | AZ14: 111.0626 | BA14: 111.35173 | BB14: 111.65107 | BC14: 112.89769 | BD14: 113.2963 | BE14: 116.02996 | BF14: 116.81018 | BG14: 115.05597 | BH14: 114.47107 | BI14: 113.64089 | BJ14: 114.1429 | BK14: 113.21626 | BL14: 114.09515 | BM14: 113.50645 | BN14: 113.89448 | BO14: 113.84786 | BP14: 112.04456 | BQ14: 113.22073 | BR14: 113.85116 | BS14: 113.9433
A15: East | B15: 2840564 | C15: 100 | D15: 99.187344 | E15: 99.541007 | F15: 99.509323 | G15: 99.164567 | H15: 98.581056 | I15: 99.257683 | J15: 98.401867 | K15: 98.63161 | L15: 100.62871 | M15: 101.26795 | N15: 102.90984 | O15: 101.53639 | P15: 100.58502 | Q15: 99.5804 | R15: 101.06426 | S15: 101.53163 | T15: 102.37935 | U15: 104.05215 | V15: 104.96106 | W15: 106.1153 | X15: 107.35238 | Y15: 107.22835 | Z15: 107.45366 | AA15: 108.066 | AB15: 108.6217 | AC15: 108.61575 | AD15: 109.37786 | AE15: 109.46692 | AF15: 110.50091 | AG15: 112.22032 | AH15: 111.30575 | AI15: 111.70838 | AJ15: 112.61718 | AK15: 113.19921 | AL15: 112.43852 | AM15: 112.23898 | AN15: 113.29071 | AO15: 113.899 | AP15: 113.69506 | AQ15: 113.4204 | AR15: 112.70811 | AS15: 114.46854 | AT15: 116.16485 | AU15: 114.14483 | AV15: 112.24655 | AW15: 112.37899 | AX15: 111.5991 | AY15: 111.885 | AZ15: 112.64379 | BA15: 111.49166 | BB15: 112.6691 | BC15: 111.96893 | BD15: 113.30331 | BE15: 114.68205 | BF15: 115.37174 | BG15: 114.34426 | BH15: 113.82345 | BI15: 114.44213 | BJ15: 114.83941 | BK15: 116.0308 | BL15: 116.82384 | BM15: 116.77061 | BN15: 117.7846 | BO15: 115.63728 | BP15: 116.19386 | BQ15: 116.31856 | BR15: 117.17933 | BS15: 116.34661
... A17: South West | B17: 4394885 | C17: 100 | D17: 99.729617 | E17: 99.788936 | F17: 99.703564 | G17: 100.65139 | H17: 101.25164 | I17: 102.01418 | J17: 101.47137 | K17: 101.50684 | L17: 101.48386 | M17: 101.25762 | N17: 103.30607 | O17: 104.25668 | P17: 103.21255 | Q17: 102.19068 | R17: 102.09953 | S17: 103.56751 | T17: 103.93596 | U17: 105.1276 | V17: 105.83032 | W17: 106.1704 | X17: 106.70243 | Y17: 108.39378 | Z17: 107.85418 | AA17: 108.15241 | AB17: 109.82742 | AC17: 110.37267 | AD17: 111.41031 | AE17: 112.60702 | AF17: 112.24339 | AG17: 111.42712 | AH17: 111.92163 | AI17: 110.5709 | AJ17: 110.78449 | AK17: 109.53772 | AL17: 109.05191 | AM17: 108.74612 | AN17: 110.78615 | AO17: 112.44271 | AP17: 113.28913 | AQ17: 113.66871 | AR17: 112.415 | AS17: 113.20581 | AT17: 111.75316 | AU17: 110.49909 | AV17: 108.29043 | AW17: 108.53777 | AX17: 110.08736 | AY17: 109.72526 | AZ17: 110.22671 | BA17: 110.81307 | BB17: 111.76959 | BC17: 111.6923 | BD17: 111.67896 | BE17: 112.24351 | BF17: 113.29659 | BG17: 114.079 | BH17: 114.63586 | BI17: 115.55554 | BJ17: 115.40871 | BK17: 114.83211 | BL17: 113.49125 | BM17: 114.11084 | BN17: 71.671272 | BO17: 71.441414 | BP17: 69.702506 | BQ17: 70.294445 | BR17: 70.472879 | BS17: 70.384549
A19: 2009 Q2 = 100
A20: Workforce Jobs (WFJ) is a quarterly measure of the number of jobs in the UK. Estimates are only available at national and regional level.
A21: It is a compound source that draws on a range of employer surveys, household surveys and administrative sources. WFJ is the sum of employee jobs measured primarily by employer surveys, self-employment jobs from the Labour Force Survey, and government-supported trainees and His Majesty's Forces from administrative sources.
A22: Seasonally adjusted. The figures in this dataset are adjusted to compensate for seasonal variations in employment.

Sheet Unadjusted data by sex
B1: United Kingdom | D1: London
A2: Date | B2: Male | C2: Female | D2: Male | E2: Female
A3: 38412 | B3: 16539830 | C3: 14730302 | D3: 2532588 | E3: 2135712
A4: 38504 | B4: 16568455 | C4: 14814443 | D4: 2526222 | E4: 2165624
A5: 38596 | B5: 16686227 | C5: 14824550 | D5: 2539235 | E5: 2181250
A6: 38687 | B6: 16834046 | C6: 14933173 | D6: 2581390 | E6: 2203988
A7: 38777 | B7: 16732948 | C7: 14886646 | D7: 2584594 | E7: 2173381
A8: 38869 | B8: 16822358 | C8: 14967175 | D8: 2615650 | E8: 2153223
A9: 38961 | B9: 16913037 | C9: 15008341 | D9: 2601058 | E9: 2150187
A10: 39052 | B10: 17084379 | C10: 15117881 | D10: 2623873 | E10: 2184953
A11: 39142 | B11: 16936292 | C11: 14976807 | D11: 2606045 | E11: 2177256
A12: 39234 | B12: 17006679 | C12: 15061161 | D12: 2608475 | E12: 2181540
A13: 39326 | B13: 17149909 | C13: 15042682 | D13: 2629914 | E13: 2209430
A14: 39417 | B14: 17254816 | C14: 15132458 | D14: 2671719 | E14: 2240101
... A88: 46174 | B88: 18749733 | C88: 17983791 | D88: 3290854 | E88: 3137432
